BEGIN:VCALENDAR
VERSION:2.0
PRODID:icalendar-ruby
CALSCALE:GREGORIAN
METHOD:PUBLISH
BEGIN:VEVENT
DTSTAMP:20260419T192604Z
UID:31-1038130@safeharbor.tithelysetup5.com
DTSTART:20251015T160000Z
DTEND:20251015T170000Z
CLASS:PUBLIC
CREATED:20260419T114320
DESCRIPTION:
LAST-MODIFIED:20260419T114320
LOCATION:Ruby Tuesdays
SUMMARY:Fellowship Luncheon
URL;VALUE=URI:https://safeharborumc.com/events/fellowship-luncheon--31/2025
 -10-15
END:VEVENT
END:VCALENDAR
